BEGIN:VCALENDAR
VERSION:2.0
PRODID:-//REVER - Réseau d&#039;Echanges et de Valorisation en Ecologie de la Restauration - ECPv6.15.17.1//NONSGML v1.0//EN
CALSCALE:GREGORIAN
METHOD:PUBLISH
X-WR-CALNAME:REVER - Réseau d&#039;Echanges et de Valorisation en Ecologie de la Restauration
X-ORIGINAL-URL:https://reseau-rever.fr
X-WR-CALDESC:Évènements pour REVER - Réseau d&#039;Echanges et de Valorisation en Ecologie de la Restauration
REFRESH-INTERVAL;VALUE=DURATION:PT1H
X-Robots-Tag:noindex
X-PUBLISHED-TTL:PT1H
BEGIN:VTIMEZONE
TZID:Europe/Paris
BEGIN:DAYLIGHT
TZOFFSETFROM:+0100
TZOFFSETTO:+0200
TZNAME:CEST
DTSTART:20190331T010000
END:DAYLIGHT
BEGIN:STANDARD
TZOFFSETFROM:+0200
TZOFFSETTO:+0100
TZNAME:CET
DTSTART:20191027T010000
END:STANDARD
BEGIN:DAYLIGHT
TZOFFSETFROM:+0100
TZOFFSETTO:+0200
TZNAME:CEST
DTSTART:20200329T010000
END:DAYLIGHT
BEGIN:STANDARD
TZOFFSETFROM:+0200
TZOFFSETTO:+0100
TZNAME:CET
DTSTART:20201025T010000
END:STANDARD
BEGIN:DAYLIGHT
TZOFFSETFROM:+0100
TZOFFSETTO:+0200
TZNAME:CEST
DTSTART:20210328T010000
END:DAYLIGHT
BEGIN:STANDARD
TZOFFSETFROM:+0200
TZOFFSETTO:+0100
TZNAME:CET
DTSTART:20211031T010000
END:STANDARD
END:VTIMEZONE
BEGIN:VEVENT
DTSTART;VALUE=DATE:20200607
DTEND;VALUE=DATE:20200612
DTSTAMP:20260426T014621
CREATED:20200220T084756Z
LAST-MODIFIED:20210121T134331Z
UID:279-1591488000-1591919999@reseau-rever.fr
SUMMARY:Conférence Québec RE3 - Reclaim Restore Rewild - ANNULEE
DESCRIPTION:Conférence Québec RE3 – Reclaim Restore Rewild – ANNULÉE\nDu 7 au 11 juin 2020 se déroulera une conférence co-organisée entre l’Association canadienne de réhabilitation des sites dégradés (ACRSD/CLRA)\, la Society for Ecological Restoration (SER) et la Society of Wetland Scientists (SWS). \nLe thème proposé pour la conférence de 2020 est « De la réhabilitation à la restauration et au ré-ensauvagement ». Il vise à stimuler les discussions sur les approches de gestion préconisées par les trois sociétés hôtes. La réhabilitation est reconnue et pratiquée par de nombreuses industries\, y compris celles de l’extraction minière et pétrolière. La restauration est davantage reconnue dans le monde entier et a été au centre des préoccupations de la SER. Le ré-ensauvagement\, ou le retour à la nature\, nous permet de rêver. Ces termes impliquent également des idées d’industrie\, de science\, de pratiques\, de société et d’imagination. Ils vont du pratique au créatif. \nDepuis 2000\, le développement économique connaît une croissance rapide dans les régions tempérées\, boréales et arctiques d’Amérique du Nord\, et la restauration écologique est en pleine expansion. Comme le biome boréal comprend près de 20 % des milieux humides en Amérique du Nord\, nous pensons qu’il est important de convier pour la première fois des experts de la SWS à se joindre aux membres de l’ACRSD/CLRA et de la SER afin de stimuler les échanges de connaissances\, de meilleures pratiques et de nouvelles idées. La conférence offrira une excellente occasion à tous les membres\, qu’ils soient du monde universitaire ou qu’ils proviennent d’organismes privés ou gouvernementaux\, d’interagir et de présenter les derniers développements en matière de réhabilitation\, de restauration et au ré-ensauvagement pour divers écosystèmes\, de même que de promouvoir les connaissances et une saine gestion des milieux humides basée sur la science. \nLa conférence se déroulera en anglais. Les contributions originales peuvent prendre la forme de présentations en plénière\, de tables rondes\, de communications orales ou d’affiches\, avec un certain nombre de sessions parallèles consacrées à des sujets spécifiques. Les résumés de chaque présentation par l’un des auteurs figureront dans les actes de la conférence. \n 
URL:https://reseau-rever.fr/event/conference-quebec-re3-reclaim-restore-rewild/
LOCATION:Quebec\, Quebec\, Canada
CATEGORIES:Passé
ATTACH;FMTTYPE=image/jpeg:https://reseau-rever.fr/wp-content/uploads/sites/19/2020/02/RE3_quebec.jpg
END:VEVENT
END:VCALENDAR