BEGIN:VCALENDAR
VERSION:2.0
PRODID:-//REVER - Réseau d&#039;Echanges et de Valorisation en Ecologie de la Restauration - ECPv6.15.17.1//NONSGML v1.0//EN
CALSCALE:GREGORIAN
METHOD:PUBLISH
X-WR-CALNAME:REVER - Réseau d&#039;Echanges et de Valorisation en Ecologie de la Restauration
X-ORIGINAL-URL:https://reseau-rever.fr
X-WR-CALDESC:Évènements pour REVER - Réseau d&#039;Echanges et de Valorisation en Ecologie de la Restauration
REFRESH-INTERVAL;VALUE=DURATION:PT1H
X-Robots-Tag:noindex
X-PUBLISHED-TTL:PT1H
BEGIN:VTIMEZONE
TZID:Europe/Paris
BEGIN:DAYLIGHT
TZOFFSETFROM:+0100
TZOFFSETTO:+0200
TZNAME:CEST
DTSTART:20200329T010000
END:DAYLIGHT
BEGIN:STANDARD
TZOFFSETFROM:+0200
TZOFFSETTO:+0100
TZNAME:CET
DTSTART:20201025T010000
END:STANDARD
BEGIN:DAYLIGHT
TZOFFSETFROM:+0100
TZOFFSETTO:+0200
TZNAME:CEST
DTSTART:20210328T010000
END:DAYLIGHT
BEGIN:STANDARD
TZOFFSETFROM:+0200
TZOFFSETTO:+0100
TZNAME:CET
DTSTART:20211031T010000
END:STANDARD
BEGIN:DAYLIGHT
TZOFFSETFROM:+0100
TZOFFSETTO:+0200
TZNAME:CEST
DTSTART:20220327T010000
END:DAYLIGHT
BEGIN:STANDARD
TZOFFSETFROM:+0200
TZOFFSETTO:+0100
TZNAME:CET
DTSTART:20221030T010000
END:STANDARD
END:VTIMEZONE
BEGIN:VEVENT
DTSTART;TZID=Europe/Paris:20210126T130000
DTEND;TZID=Europe/Paris:20210126T140000
DTSTAMP:20260425T135219
CREATED:20210121T141120Z
LAST-MODIFIED:20210216T103419Z
UID:514-1611666000-1611669600@reseau-rever.fr
SUMMARY:Webinaire - Systèmes ingénieux du patrimoine agricole mondiale et restauration des écosystèmes
DESCRIPTION:Systèmes Ingénieux du Patrimoine Agricole Mondial et restauration des écosystèmes : 26 JANVIER 2021 : 13:00 – 14:40\n\nThe purpose of this workshop is to share information among some GIAHS sites on the sustainable use of natural resources\, the types of ecoservices and ecosystems and the experience of restoration of landscapes and ecosystems of GIAHS sites.\n\nLien vers le programme : http://www.fao.org/fileadmin/templates/giahs_assets/Documents/Agenda_FR_v1.pdf \n 
URL:https://reseau-rever.fr/event/webinaire-systemes-ingenieux-du-patrimoine-agricole-mondiale-et-restauration-des-ecosystemes/
CATEGORIES:Passé
ATTACH;FMTTYPE=image/jpeg:https://reseau-rever.fr/wp-content/uploads/sites/19/2021/01/FAO.jpeg
END:VEVENT
END:VCALENDAR