BEGIN:VCALENDAR
VERSION:2.0
PRODID:-//REVER - Réseau d&#039;Echanges et de Valorisation en Ecologie de la Restauration - ECPv6.15.17.1//NONSGML v1.0//EN
CALSCALE:GREGORIAN
METHOD:PUBLISH
X-WR-CALNAME:REVER - Réseau d&#039;Echanges et de Valorisation en Ecologie de la Restauration
X-ORIGINAL-URL:https://reseau-rever.fr
X-WR-CALDESC:Évènements pour REVER - Réseau d&#039;Echanges et de Valorisation en Ecologie de la Restauration
REFRESH-INTERVAL;VALUE=DURATION:PT1H
X-Robots-Tag:noindex
X-PUBLISHED-TTL:PT1H
BEGIN:VTIMEZONE
TZID:Europe/Paris
BEGIN:DAYLIGHT
TZOFFSETFROM:+0100
TZOFFSETTO:+0200
TZNAME:CEST
DTSTART:20200329T010000
END:DAYLIGHT
BEGIN:STANDARD
TZOFFSETFROM:+0200
TZOFFSETTO:+0100
TZNAME:CET
DTSTART:20201025T010000
END:STANDARD
BEGIN:DAYLIGHT
TZOFFSETFROM:+0100
TZOFFSETTO:+0200
TZNAME:CEST
DTSTART:20210328T010000
END:DAYLIGHT
BEGIN:STANDARD
TZOFFSETFROM:+0200
TZOFFSETTO:+0100
TZNAME:CET
DTSTART:20211031T010000
END:STANDARD
BEGIN:DAYLIGHT
TZOFFSETFROM:+0100
TZOFFSETTO:+0200
TZNAME:CEST
DTSTART:20220327T010000
END:DAYLIGHT
BEGIN:STANDARD
TZOFFSETFROM:+0200
TZOFFSETTO:+0100
TZNAME:CET
DTSTART:20221030T010000
END:STANDARD
END:VTIMEZONE
BEGIN:VEVENT
DTSTART;VALUE=DATE:20210629
DTEND;VALUE=DATE:20210702
DTSTAMP:20260425T062039
CREATED:20200122T153017Z
LAST-MODIFIED:20250909T163915Z
UID:223-1624924800-1625183999@reseau-rever.fr
SUMMARY:REVER 11 - Restaurer et s'enraciner
DESCRIPTION:Les journées se tiendront du 29 juin au 1er juillet 2021\nau Pôle Universitaire de Gap dans les Hautes-Alpes (05)\nLa journée du 25 sera consacrée à des visites de terrain\nPossibilité de s’inscrire ici \n  \nREVER 11 dans les Alpes… \nL’organisation de REVER 11 en 2020 n’a pas été possible\, mais elle est reportée cette année du 29 juin au 1er juillet 2021. \nPour la 11ème édition de ses journées ateliers\, le réseau REVER s’est associé au Conservatoire Botanique National Alpin (CBNA) et l’Institut national de recherche pour l’agriculture\, l’alimentation et l’environnement (INRAE)\, pour organiser 3 jours d’échanges\, de rencontres et de sorties de terrain autour de la restauration des écosystèmes. La thématique retenue cette année est RESTAURER et S’ENRACINER\, pour souligner et discuter de l’importance du compartiment sol dans la restauration écologique. \nCette édition se déroulera en lien avec une journée de visites de sites de restauration dans le cadre du projet Gebiodiv. Il s’agit d’un progamme PITEM Biodiv’Alp : Gebiodiv – Gérer les réservoirs de biodiversité et les écosystèmes pour mieux les protéger ensemble. Il s’inscrit dans un programme plus large – PITEM BiodivAlp – qui vise à endiguer l’érosion de la biodiversité alpine et à renforcer l’attractivité des territoires. Pour arriver à cet objectif\, nous mènerons notamment des actions de restauration d’habitats naturels alpin et réaliseront des échanges techniques entre France et Italie. \n  \nAPPEL à COMMUNICATIONS \nLa date limite de dépôt des communications est fixée au 17 avril 2020 \n  \nRenseignement et inscription sur le site internet : https://rever11.sciencesconf.org/
URL:https://reseau-rever.fr/event/rever-2020-restaurer-et-senraciner/
LOCATION:Pôle Universitaire de Gap dans les Hautes-Alpes\, Gap\, France
ATTACH;FMTTYPE=image/png:https://reseau-rever.fr/wp-content/uploads/sites/19/2020/01/BandeauREVER2980_2021.png
END:VEVENT
END:VCALENDAR