BEGIN:VCALENDAR
VERSION:2.0
PRODID:-//REVER - Réseau d&#039;Echanges et de Valorisation en Ecologie de la Restauration - ECPv6.15.17.1//NONSGML v1.0//EN
CALSCALE:GREGORIAN
METHOD:PUBLISH
X-ORIGINAL-URL:https://reseau-rever.fr
X-WR-CALDESC:Évènements pour REVER - Réseau d&#039;Echanges et de Valorisation en Ecologie de la Restauration
REFRESH-INTERVAL;VALUE=DURATION:PT1H
X-Robots-Tag:noindex
X-PUBLISHED-TTL:PT1H
BEGIN:VTIMEZONE
TZID:Europe/Paris
BEGIN:DAYLIGHT
TZOFFSETFROM:+0100
TZOFFSETTO:+0200
TZNAME:CEST
DTSTART:20200329T010000
END:DAYLIGHT
BEGIN:STANDARD
TZOFFSETFROM:+0200
TZOFFSETTO:+0100
TZNAME:CET
DTSTART:20201025T010000
END:STANDARD
BEGIN:DAYLIGHT
TZOFFSETFROM:+0100
TZOFFSETTO:+0200
TZNAME:CEST
DTSTART:20210328T010000
END:DAYLIGHT
BEGIN:STANDARD
TZOFFSETFROM:+0200
TZOFFSETTO:+0100
TZNAME:CET
DTSTART:20211031T010000
END:STANDARD
BEGIN:DAYLIGHT
TZOFFSETFROM:+0100
TZOFFSETTO:+0200
TZNAME:CEST
DTSTART:20220327T010000
END:DAYLIGHT
BEGIN:STANDARD
TZOFFSETFROM:+0200
TZOFFSETTO:+0100
TZNAME:CET
DTSTART:20221030T010000
END:STANDARD
END:VTIMEZONE
BEGIN:VEVENT
DTSTART;VALUE=DATE:20211027
DTEND;VALUE=DATE:20211030
DTSTAMP:20260424T230231
CREATED:20210502T072824Z
LAST-MODIFIED:20250909T163830Z
UID:585-1635292800-1635551999@reseau-rever.fr
SUMMARY:Restauration et reconnexion des marais littoraux. Regards croisés sur une solution d’adaptation aux changements globaux.
DESCRIPTION: Restauration et reconnexion des marais littoraux. Regards croisés sur une solution d’adaptation aux changements globaux. \nà Brest\, du 27 au 29 Octobre 2021 \n A l’occasion de la restitution du programme de recherche PEPPS (Pertinence Environnementale de la restauration des Petits Prés et marais Salés)\, les Universités de Bretagne Occidentale\, de Bretagne Sud et de Rennes 1\, porteuses de ce programme et leurs partenaires\, vous proposent trois journées d’échanges visant à faire la synthèse des travaux de recherche et des opérations en cours sur la restauration de marais littoraux. Ce colloque se caractérisera par une approche pluridisciplinaire croisant les analyses de sciences humaines et de sciences de l’environnement mais aussi des approches théoriques\, des résultats de travaux de recherche et des retours d’expériences. Ce colloque s’adresse à tous ceux (gestionnaires\, élus\, chercheurs\, étudiants\, …) concernés par les marais littoraux. \nL’appel à communications est dès maintenant disponibles sur le site du colloques ou les informations pratiques seront ajoutées régulièrement: \nhttps://marais2021.sciencesconf.org \n  \n\n\n\n\n\n\n\n\n\n 
URL:https://reseau-rever.fr/event/restauration-et-reconnexion-des-marais-littoraux-regards-croises-sur-une-solution-dadaptation-aux-changements-globaux/
LOCATION:Brest\, Brest
ATTACH;FMTTYPE=image/png:https://reseau-rever.fr/wp-content/uploads/sites/19/2021/05/Marai2021.png
END:VEVENT
END:VCALENDAR